BEGIN:VCALENDAR
VERSION:2.0
PRODID:-//Rzym Polska Akademia Nauk - ECPv6.7.1//NONSGML v1.0//EN
CALSCALE:GREGORIAN
METHOD:PUBLISH
X-ORIGINAL-URL:https://rzym.pan.pl
X-WR-CALDESC:Events for Rzym Polska Akademia Nauk
REFRESH-INTERVAL;VALUE=DURATION:PT1H
X-Robots-Tag:noindex
X-PUBLISHED-TTL:PT1H
BEGIN:VTIMEZONE
TZID:Europe/Warsaw
BEGIN:DAYLIGHT
TZOFFSETFROM:+0100
TZOFFSETTO:+0200
TZNAME:CEST
DTSTART:20240331T010000
END:DAYLIGHT
BEGIN:STANDARD
TZOFFSETFROM:+0200
TZOFFSETTO:+0100
TZNAME:CET
DTSTART:20241027T010000
END:STANDARD
END:VTIMEZONE
BEGIN:VEVENT
DTSTART;TZID=Europe/Warsaw:20241202T180000
DTEND;TZID=Europe/Warsaw:20241202T200000
DTSTAMP:20260425T184023
CREATED:20241127T145246Z
LAST-MODIFIED:20250117T111303Z
UID:3111-1733162400-1733169600@rzym.pan.pl
SUMMARY:Igor Mitoraj at the Academy of Fine Arts in Krakow
DESCRIPTION:
URL:https://rzym.pan.pl/event/igor-mitoraj-at-the-academy-of-fine-arts-in-krakow/
LOCATION:Accademia Polacca delle Scienze di Roma\, Vicolo Doria 2\, Roma\, 00186\, Italy
CATEGORIES:Evening Event
END:VEVENT
END:VCALENDAR