BEGIN:VCALENDAR
VERSION:2.0
PRODID:-//Rzym Polska Akademia Nauk - ECPv6.7.1//NONSGML v1.0//EN
CALSCALE:GREGORIAN
METHOD:PUBLISH
X-ORIGINAL-URL:https://rzym.pan.pl
X-WR-CALDESC:Events for Rzym Polska Akademia Nauk
REFRESH-INTERVAL;VALUE=DURATION:PT1H
X-Robots-Tag:noindex
X-PUBLISHED-TTL:PT1H
BEGIN:VTIMEZONE
TZID:Europe/Warsaw
BEGIN:DAYLIGHT
TZOFFSETFROM:+0100
TZOFFSETTO:+0200
TZNAME:CEST
DTSTART:20240331T010000
END:DAYLIGHT
BEGIN:STANDARD
TZOFFSETFROM:+0200
TZOFFSETTO:+0100
TZNAME:CET
DTSTART:20241027T010000
END:STANDARD
END:VTIMEZONE
BEGIN:VEVENT
DTSTART;TZID=Europe/Warsaw:20241115T180000
DTEND;TZID=Europe/Warsaw:20241115T200000
DTSTAMP:20260425T183221
CREATED:20241014T113248Z
LAST-MODIFIED:20250117T111311Z
UID:2848-1731693600-1731700800@rzym.pan.pl
SUMMARY:Dyplomaci papiescy o wojnie i na wojnie. Korespondencja apostolska jako źródło do badań nad dziejami wojskowości polskiej z I poł. XVII w.
DESCRIPTION:
URL:https://rzym.pan.pl/event/dyplomaci-papiescy-o-wojnie-i-na-wojnie-korespondencja-apostolska-jak-zrodlo-do-badan-nad-dziejami-wojskowosci-polskiej-z-i-pol-xvii-w/
LOCATION:Accademia Polacca delle Scienze di Roma\, Vicolo Doria 2\, Roma\, 00186\, Italy
CATEGORIES:Evening Event
END:VEVENT
END:VCALENDAR