BEGIN:VCALENDAR
VERSION:2.0
PRODID:-//Rzym Polska Akademia Nauk - ECPv6.7.1//NONSGML v1.0//EN
CALSCALE:GREGORIAN
METHOD:PUBLISH
X-ORIGINAL-URL:https://rzym.pan.pl
X-WR-CALDESC:Events for Rzym Polska Akademia Nauk
REFRESH-INTERVAL;VALUE=DURATION:PT1H
X-Robots-Tag:noindex
X-PUBLISHED-TTL:PT1H
BEGIN:VTIMEZONE
TZID:Europe/Warsaw
BEGIN:DAYLIGHT
TZOFFSETFROM:+0100
TZOFFSETTO:+0200
TZNAME:CEST
DTSTART:20250330T010000
END:DAYLIGHT
BEGIN:STANDARD
TZOFFSETFROM:+0200
TZOFFSETTO:+0100
TZNAME:CET
DTSTART:20251026T010000
END:STANDARD
END:VTIMEZONE
BEGIN:VEVENT
DTSTART;TZID=Europe/Warsaw:20250918T093000
DTEND;TZID=Europe/Warsaw:20250918T180000
DTSTAMP:20260423T001755
CREATED:20250110T130000Z
LAST-MODIFIED:20250703T072152Z
UID:3282-1758187800-1758218400@rzym.pan.pl
SUMMARY:1st Polish-Italian Conference on Chemistry\, Materials and Biomedicine (CMB)
DESCRIPTION:PROTONY\, BIAŁKA\, METALE SZLACHETNE. WSPÓŁPRACA POLSKICH I WŁOSKICH NAUKOWCÓW \nTematyka konferencji będzie koncentrować się na aktualnych tematach badań biochemicznych ze szczególnym uwzględnieniem oddziaływań peptydowo-białkowych i ich zastosowań\, takich jak: dynamika wiązania peptyd-białko\, biologia strukturalna kompleksów białko-peptyd\, regulacja funkcji białka za pośrednictwem metalopeptydów\, inżynieria białek i projektowanie peptydów\, inhibicja enzymów przez peptydy\, komputerowe modelowanie oddziaływań peptyd-białko\, peptydomimetyki w projektowaniu leków\, metody badania oddziaływań białko-peptyd\, peptydy terapeutyczne i ich rola w modulacji chorób. \nMORE INFO
URL:https://rzym.pan.pl/event/protony-bialka-metale-szlachetne-wspolpraca-polskich-i-wloskich-naukowcow/
LOCATION:Accademia Polacca delle Scienze di Roma\, Vicolo Doria 2\, Roma\, 00186\, Italy
CATEGORIES:Conference
END:VEVENT
END:VCALENDAR