BEGIN:VCALENDAR
VERSION:2.0
PRODID:-//Rzym Polska Akademia Nauk - ECPv6.7.1//NONSGML v1.0//EN
CALSCALE:GREGORIAN
METHOD:PUBLISH
X-WR-CALNAME:Rzym Polska Akademia Nauk
X-ORIGINAL-URL:https://rzym.pan.pl
X-WR-CALDESC:Events for Rzym Polska Akademia Nauk
REFRESH-INTERVAL;VALUE=DURATION:PT1H
X-Robots-Tag:noindex
X-PUBLISHED-TTL:PT1H
BEGIN:VTIMEZONE
TZID:Europe/Warsaw
BEGIN:DAYLIGHT
TZOFFSETFROM:+0100
TZOFFSETTO:+0200
TZNAME:CEST
DTSTART:20250330T010000
END:DAYLIGHT
BEGIN:STANDARD
TZOFFSETFROM:+0200
TZOFFSETTO:+0100
TZNAME:CET
DTSTART:20251026T010000
END:STANDARD
END:VTIMEZONE
BEGIN:VEVENT
DTSTART;TZID=Europe/Warsaw:20250410T150000
DTEND;TZID=Europe/Warsaw:20250410T180000
DTSTAMP:20260421T223831
CREATED:20250110T121543Z
LAST-MODIFIED:20250117T124455Z
UID:3274-1744297200-1744308000@rzym.pan.pl
SUMMARY:Liberalna demokracja w kryzysie: historyczne i porównawcze perspektywy fal demokratyzacji i autokratyzacji w międzywojennej Europie i czasach współczesnych
DESCRIPTION:LIBERALNA DEMOKRACJA W KRYZYSIE: HISTORYCZNE I PORÓWNAWCZE PERSPEKTYWY FAL DEMOKRATYZACJI I AUTOKRATYZACJI W MIĘDZYWOJENNEJ EUROPIE I CZASACH WSPÓŁCZESNYCH /\nDEMOCRAZIA LIBERALE IN CRISI: PROSPETTIVE STORICHE E COMPARATIVE SULLE ONDATE DI DEMOCRATIZZAZIONE ED AUTOCRATIZZAZIONE IN EUROPA TRA LE DUE GUERRE E OGGI\nZ okazji 90. rocznicy śmierci Marszałka Józefa Piłsudskiego oraz ogłoszenia konstytucji kwietniowej\n(1935) grupa badaczy z Polski i Włoch planuje zorganizować międzynarodową konferencję\, której celem będzie refleksja nad kryzysem demokracji w Europie w okresie międzywojennym oraz jego związkiem z współczesnością. Po I wojnie światowej Europa doświadczyła kryzysu systemu liberalno-demokratycznego\,\nco w wielu krajach doprowadziło do powstania reżimów autorytarnych. Dyktatorzy\, tacy jak Adolf Hitler\, Francisco Franco\, Józef Piłsudski czy Benito Mussolini\, wzmacniali swoje rządy populistycznym dyskursem\, krytykując tradycyjne partie polityczne i system demokratyczny. Podobnie\, począwszy od 2009 roku\, rośnie znaczenie partii skrajnie prawicowych w Europie\, co potwierdziły wybory w czerwcu 2024 roku\, kiedy to siły nacjonalistyczne zyskały na znaczeniu. Partie eurosceptyczne i populistyczne krytykują nie tylko Unię Europejską\, ale także samo pojęcie demokracji liberalnej. W kontekście tych zjawisk konferencja będzie miała na celu zbadanie relacji miedzy kryzysem demokracji a wzrostem populizmu. Uczestnicy spróbują odpowiedzieć na kluczowe pytania dotyczące zmian instytucjonalnych oraz mechanizmów przejęcia władzy przez siły antydemokratyczne.
URL:https://rzym.pan.pl/event/liberalna-demokracja-w-kryzysie-historyczne-i-porownawcze-perspektywy-fal-demokratyzacji-i-autokratyzacji-w-miedzywojennej-europie-i-czasach-wspolczesnych/
LOCATION:Accademia Polacca delle Scienze di Roma\, Vicolo Doria 2\, Roma\, 00186\, Italy
CATEGORIES:Conference
END:VEVENT
END:VCALENDAR