BEGIN:VCALENDAR
VERSION:2.0
PRODID:-//Rzym Polska Akademia Nauk - ECPv6.7.1//NONSGML v1.0//EN
CALSCALE:GREGORIAN
METHOD:PUBLISH
X-WR-CALNAME:Rzym Polska Akademia Nauk
X-ORIGINAL-URL:https://rzym.pan.pl
X-WR-CALDESC:Events for Rzym Polska Akademia Nauk
REFRESH-INTERVAL;VALUE=DURATION:PT1H
X-Robots-Tag:noindex
X-PUBLISHED-TTL:PT1H
BEGIN:VTIMEZONE
TZID:Europe/Warsaw
BEGIN:DAYLIGHT
TZOFFSETFROM:+0100
TZOFFSETTO:+0200
TZNAME:CEST
DTSTART:20250330T010000
END:DAYLIGHT
BEGIN:STANDARD
TZOFFSETFROM:+0200
TZOFFSETTO:+0100
TZNAME:CET
DTSTART:20251026T010000
END:STANDARD
END:VTIMEZONE
BEGIN:VEVENT
DTSTART;TZID=Europe/Warsaw:20250327T090000
DTEND;TZID=Europe/Warsaw:20250327T170000
DTSTAMP:20260420T120229
CREATED:20250110T104842Z
LAST-MODIFIED:20250115T100453Z
UID:3264-1743066000-1743094800@rzym.pan.pl
SUMMARY:Benedetto Croce i Gustaw Herling-Grudziński: między literaturą\, historią\, filozofią a lingwistyką
DESCRIPTION:BENEDETTO CROCE I GUSTAW HERLING-GRUDZIŃSKI: MIĘDZY LITERATURĄ\, HISTORIĄ\, FILOZOFIĄ A LINGIWSTYKĄ /\nBENEDETTO CROCE E GUSTAW HERLING-GRUDZIŃSKI: TRA LETTERATURA\, STORIA\, FILOSOFIA E LINGUISTICA\nPodczas dwudniowej konferencji stworzony zostanie panel do dyskusji i wymiany doświadczeń naukowców badających twórczość dwóch monumentalnych figur\, ważnych dla stosunków kulturowych polsko-włoskich: włoskiego filozofa B. Crocego\, przedstawiciela włoskiej myśli liberalnej\, oraz polskiego pisarza-dysydenta G. Herlinga-Grudzińskiego byłego więźnia Gułagu i żołnierza Armii Andersa\, których drogi skrzyżowały się w Neapolu. \nWięcej o założeniach konferencji można przeczytać tutaj.
URL:https://rzym.pan.pl/event/benedetto-croce-i-gustaw-herling-grudzinski-miedzy-literatura-historia-filozofia-a-lingwistyka/
LOCATION:Accademia Polacca delle Scienze di Roma\, Vicolo Doria 2\, Roma\, 00186\, Italy
CATEGORIES:Conference
END:VEVENT
BEGIN:VEVENT
DTSTART;TZID=Europe/Warsaw:20250328T090000
DTEND;TZID=Europe/Warsaw:20250328T170000
DTSTAMP:20260420T120229
CREATED:20250110T105243Z
LAST-MODIFIED:20250115T102507Z
UID:3266-1743152400-1743181200@rzym.pan.pl
SUMMARY:Benedetto Croce i Gustaw Herling-Grudziński: między literaturą\, historią\, filozofią a lingwistyką
DESCRIPTION:BENEDETTO CROCE I GUSTAW HERLING-GRUDZIŃSKI: MIĘDZY LITERATURĄ\, HISTORIĄ\, FILOZOFIĄ A LINGIWSTYKĄ /\nBENEDETTO CROCE E GUSTAW HERLING-GRUDZIŃSKI: TRA LETTERATURA\, STORIA\, FILOSOFIA E LINGUISTICA\nPodczas dwudniowej konferencji stworzony zostanie panel do dyskusji i wymiany doświadczeń naukowców badających twórczość dwóch monumentalnych figur\, ważnych dla stosunków kulturowych polsko-włoskich: włoskiego filozofa B. Crocego\, przedstawiciela włoskiej myśli liberalnej\, oraz polskiego pisarza-dysydenta G. Herlinga-Grudzińskiego byłego więźnia Gułagu i żołnierza Armii Andersa\, których drogi skrzyżowały się w Neapolu. \nWięcej o założeniach konferencji można przeczytać tutaj.
URL:https://rzym.pan.pl/event/benedetto-croce-i-gustaw-herling-grudzinski-miedzy-literatura-historia-filozofia-a-lingwistyka-2/
LOCATION:Accademia Polacca delle Scienze di Roma\, Vicolo Doria 2\, Roma\, 00186\, Italy
CATEGORIES:Conference
END:VEVENT
END:VCALENDAR