BEGIN:VCALENDAR
VERSION:2.0
PRODID:-//Rzym Polska Akademia Nauk - ECPv6.7.1//NONSGML v1.0//EN
CALSCALE:GREGORIAN
METHOD:PUBLISH
X-ORIGINAL-URL:https://rzym.pan.pl
X-WR-CALDESC:Events for Rzym Polska Akademia Nauk
REFRESH-INTERVAL;VALUE=DURATION:PT1H
X-Robots-Tag:noindex
X-PUBLISHED-TTL:PT1H
BEGIN:VTIMEZONE
TZID:Europe/Warsaw
BEGIN:DAYLIGHT
TZOFFSETFROM:+0100
TZOFFSETTO:+0200
TZNAME:CEST
DTSTART:20240331T010000
END:DAYLIGHT
BEGIN:STANDARD
TZOFFSETFROM:+0200
TZOFFSETTO:+0100
TZNAME:CET
DTSTART:20241027T010000
END:STANDARD
END:VTIMEZONE
BEGIN:VEVENT
DTSTART;TZID=Europe/Warsaw:20241210T123000
DTEND;TZID=Europe/Warsaw:20241210T180000
DTSTAMP:20260421T075623
CREATED:20241014T113640Z
LAST-MODIFIED:20250115T100516Z
UID:2852-1733833800-1733853600@rzym.pan.pl
SUMMARY:Polish-Italian cooperation  In assessing environmental threats using the European research platform SIOS
DESCRIPTION:
URL:https://rzym.pan.pl/event/polsko-wloska-wspolpraca-geofizykow-w-zakresie-oceny-zagrozen-srodowiska-w-oparciu-o-europejskie-platformy-badawcze-na-przykladzie-epos-i-sios-mozliwosci-wsparcia-dla-zarzadzania-kryzysowego/
LOCATION:Accademia Polacca delle Scienze di Roma\, Vicolo Doria 2\, Roma\, 00186\, Italy
CATEGORIES:Conference
END:VEVENT
BEGIN:VEVENT
DTSTART;TZID=Europe/Warsaw:20241211T090000
DTEND;TZID=Europe/Warsaw:20241211T163000
DTSTAMP:20260421T075623
CREATED:20241014T113702Z
LAST-MODIFIED:20250115T100512Z
UID:2854-1733907600-1733934600@rzym.pan.pl
SUMMARY:Polish-Italian cooperation  In assessing environmental threats using the European research platform SIOS
DESCRIPTION:
URL:https://rzym.pan.pl/event/polsko-wloska-wspolpraca-geofizykow-w-zakresie-oceny-zagrozen-srodowiska-w-oparciu-o-europejskie-platformy-badawcze-na-przykladzie-epos-i-sios-mozliwosci-wsparcia-dla-zarzadzania-kryzysowego-2/
LOCATION:Accademia Polacca delle Scienze di Roma\, Vicolo Doria 2\, Roma\, 00186\, Italy
CATEGORIES:Conference
END:VEVENT
END:VCALENDAR