BEGIN:VCALENDAR
VERSION:2.0
PRODID:-//Rzym Polska Akademia Nauk - ECPv6.7.1//NONSGML v1.0//EN
CALSCALE:GREGORIAN
METHOD:PUBLISH
X-WR-CALNAME:Rzym Polska Akademia Nauk
X-ORIGINAL-URL:https://rzym.pan.pl
X-WR-CALDESC:Events for Rzym Polska Akademia Nauk
REFRESH-INTERVAL;VALUE=DURATION:PT1H
X-Robots-Tag:noindex
X-PUBLISHED-TTL:PT1H
BEGIN:VTIMEZONE
TZID:Europe/Warsaw
BEGIN:DAYLIGHT
TZOFFSETFROM:+0100
TZOFFSETTO:+0200
TZNAME:CEST
DTSTART:20260329T010000
END:DAYLIGHT
BEGIN:STANDARD
TZOFFSETFROM:+0200
TZOFFSETTO:+0100
TZNAME:CET
DTSTART:20261025T010000
END:STANDARD
END:VTIMEZONE
BEGIN:VEVENT
DTSTART;TZID=Europe/Warsaw:20260420T150000
DTEND;TZID=Europe/Warsaw:20260420T170000
DTSTAMP:20260420T024035
CREATED:20260312T145019Z
LAST-MODIFIED:20260417T120732Z
UID:7572-1776697200-1776704400@rzym.pan.pl
SUMMARY:Piza: Inauguracja wystawy „Maria Skłodowska-Curie we Włoszech: trzy podróże\, jedna pasja”
DESCRIPTION:
URL:https://rzym.pan.pl/event/piza-inauguracja-wystawy-maria-sklodowska-curie-we-wloszech-trzy-podroze-jedna-pasja/
END:VEVENT
BEGIN:VEVENT
DTSTART;TZID=Europe/Warsaw:20260420T160000
DTEND;TZID=Europe/Warsaw:20260420T180000
DTSTAMP:20260420T024035
CREATED:20260413T092918Z
LAST-MODIFIED:20260416T134522Z
UID:8055-1776700800-1776708000@rzym.pan.pl
SUMMARY:Lycée Chateaubriand di Roma: Inauguracja wystawy „Maria Skłodowska-Curie we Włoszech: trzy podróże\, jedna pasja”
DESCRIPTION:
URL:https://rzym.pan.pl/event/lycee-chateaubriand-di-roma-inauguracja-wystawy-maria-sklodowska-curie-we-wloszech-trzy-podroze-jedna-pasja/
END:VEVENT
END:VCALENDAR